BEGIN:VCALENDAR
VERSION:2.0
PRODID:-//Dorpskerk Aerdt - ECPv6.15.20//NONSGML v1.0//EN
CALSCALE:GREGORIAN
METHOD:PUBLISH
X-WR-CALNAME:Dorpskerk Aerdt
X-ORIGINAL-URL:https://dorpskerkaerdt.nl
X-WR-CALDESC:Evenementen voor Dorpskerk Aerdt
REFRESH-INTERVAL;VALUE=DURATION:PT1H
X-Robots-Tag:noindex
X-PUBLISHED-TTL:PT1H
BEGIN:VTIMEZONE
TZID:UTC
BEGIN:STANDARD
TZOFFSETFROM:+0000
TZOFFSETTO:+0000
TZNAME:UTC
DTSTART:20250101T000000
END:STANDARD
END:VTIMEZONE
BEGIN:VEVENT
DTSTART;TZID=UTC:20260504T193000
DTEND;TZID=UTC:20260504T203000
DTSTAMP:20260421T193323
CREATED:20260206T215410Z
LAST-MODIFIED:20260420T201249Z
UID:1617-1777923000-1777926600@dorpskerkaerdt.nl
SUMMARY:Dodenherdenking
DESCRIPTION:Herdenking bij de twee grafmonumenten op de begraafplaats bij de Dorpskerk in Aerdt. Dit jaar zullen zowel de burgemeester van Zevenaar als de burgemeester van Emmerich aanwezig zijn.\nVanaf 19.00 uur is er een herdenkingsdienst in de kerk m.m.v. het Liturgiekoor uit Herwen en Drumfanfare ‘Eensgezindheid’ uit Aerdt\, gevolgd door de herdenking en bloemlegging op de begraafplaats.\nOm 19.58 uur wordt The Last Post geblazen.\nOm 20.00 uur twee minuten stilte\, gevolgd door het Wilhelmus.\nNa afloop is er in de kerk gelegenheid om een kopje koffie/thee of een drankje te nemen. \n 
URL:https://dorpskerkaerdt.nl/agenda/dodenherdenking/
CATEGORIES:eendaags
ATTACH;FMTTYPE=image/jpeg:https://dorpskerkaerdt.nl/wp-content/uploads/2026/02/Dodenherdenking-2024-scaled.jpg
END:VEVENT
BEGIN:VEVENT
DTSTART;TZID=UTC:20260517T140000
DTEND;TZID=UTC:20260607T170000
DTSTAMP:20260421T193323
CREATED:20251202T132922Z
LAST-MODIFIED:20260330T132954Z
UID:1102-1779026400-1780851600@dorpskerkaerdt.nl
SUMMARY:Expositie Sabrine Swanenberg en Frouke van Dam
DESCRIPTION:Kunstkring Het Gelders Eiland exposeert elke zondagmiddag in de Dorpskerk van Aerdt: Sabrine Swanenberg toont gemengde technieken en ecoprints en Frouke van Dam kunst van keramiek en acrylhars. \nTijdens de opening op 17 mei wordt de muziek verzorgd door het Italiaanse duo Giuseppe d’Elia (piano) en Stella Canocchi (viool). \nGeopend op 17\, 24\, 31 mei en 7 juni\, van 14.00 tot 17.00 uur.\nDe toegang is gratis. \nHet experiment is de grootste uitdaging voor Sabrine Swanenberg. Schilderen met verf en kwast is slechts één van de manieren waarop Sabrine haar innerlijke wereld tot leven brengt. Ze onderzoekt graag een breed scala aan materialen en technieken\, waardoor haar kunstwerken gelaagdheid en diversiteit uitstralen.\nSwanenberg laat zich leiden door inspiratie die zij overal om zich heen vindt: in de natuur\, in ontmoetingen\, in onverwachte details. Haar werk kenmerkt zich door het gebruik van uiteenlopende materialen\, speelse lijnen en door thema’s als vrijheid en verbinding. Haar creatieve proces is dynamisch en vloeiend\, zonder vastomlijnd plan; het is een dialoog tussen intuïtie en verbeelding. Het kunstwerk ontstaat als vanzelf wanneer zij een diepere verbinding voelt met datgene wat zij creëert. Daarnaast is zij gepassioneerd in het inspireren en begeleiden van anderen op hun pad van kunstzinnige ontwikkeling. Meer informatie: sabrineswanenberg.nl \nNa jarenlange omzwervingen op het creatieve vlak is Frouke van Dam zich zo’n vijftien jaar geleden gaan bekwamen in het werken met keramiek. Ontwikkeling staat nooit stil en haar interesse in het werken met andere materialen ook niet. Het volgen van de kunstacademie in Utrecht heeft hier zeker aan bijgedragen. Sinds een aantal jaren geeft ze workshops en heeft ze haar hart verloren aan het werken met acrylhars en mixed media. Daar waar keramiek grenzen heeft door het materiaal zijn de mogelijkheden met acrylhars en mixed media onbegrensd. De losse toets en het kleurgebruik zijn kenmerkend voor haar werk. Met haar werk laat ze de kijker graag vrij in eigen associaties en hoopt ze op een inspirerende ontmoeting. Meer informatie: artbyfrouke.com
URL:https://dorpskerkaerdt.nl/agenda/expositie-sabrine-swanenberg-en-frouke-van-dam/
CATEGORIES:eendaags
ATTACH;FMTTYPE=image/jpeg:https://dorpskerkaerdt.nl/wp-content/uploads/2025/12/IMG_2381.jpg
END:VEVENT
BEGIN:VEVENT
DTSTART;TZID=UTC:20260712T130000
DTEND;TZID=UTC:20260823T160000
DTSTAMP:20260421T193323
CREATED:20260129T140501Z
LAST-MODIFIED:20260226T124011Z
UID:1591-1783861200-1787500800@dorpskerkaerdt.nl
SUMMARY:Expositie Els Verhulst en Richard Huldman
DESCRIPTION:Op alle zondagen van 12 juli t/m 23 augustus is in de Dorpskerk van Aerdt een tentoonstelling te zien met schilderijen van Els Verhulst en beelden van Richard Huldman.  \nEls Verhulst begon vele jaren geleden met aquarelleren. Ze volgde verschillende cursussen en workshops om haar creativiteit op meerdere manieren tot uiting te brengen. Abstract schilderen sprak haar steeds meer aan en ze kreeg de behoefte om op groter formaat te werken\, met duidelijkere\, heldere kleuren.\nNa een periode van experimenteren begon Verhulst met acrylverf op doek te schilderen en verwerkte ze verschillende materialen in één werkstuk; gemengde techniek of mixed media genoemd. Ze laat zich tijdens het schilderen leiden door gevoel\, emotie en intuïtie. Deze bepalen de keuze van kleuren\, vormen\, patronen en toegepaste materialen. Haar inspiratiebronnen zijn o.a. de verhalen en ervaringen van haar vader uit de Tweede Wereldoorlog en maatschappelijke omstandigheden. Sommige schilderijen zijn dan ook voorzien van begeleidende teksten of gedichten.  \nIn het atelier werkt Els veel samen met Richard Huldman. Er is veel samenwerking en kruisbestuiving tussen hen beiden over allerlei aspecten van het creatieve proces. Bij Huldman gaat het vooral om het maken van beelden van steen. Met deze hobby is hij een paar jaar geleden begonnen\, toen hij met pensioen ging. Op verzoek van Els is een aantal beeldjes van hem\, resultaat van wederzijdse beïnvloeding en gelijktijdig met haar schilderijen ontstaan\, onderdeel van haar expositie.
URL:https://dorpskerkaerdt.nl/agenda/expositie-els-verhulst-en-richard-huldman/
CATEGORIES:eendaags
ATTACH;FMTTYPE=image/jpeg:https://dorpskerkaerdt.nl/wp-content/uploads/2026/01/IMG_6889-Els-2026.jpg
END:VEVENT
BEGIN:VEVENT
DTSTART;TZID=UTC:20260731T193000
DTEND;TZID=UTC:20260805T213000
DTSTAMP:20260421T193323
CREATED:20251202T142938Z
LAST-MODIFIED:20260216T110228Z
UID:1131-1785526200-1785965400@dorpskerkaerdt.nl
SUMMARY:Internationale Euregio Rhein-Waal Studentenmusikfestival
DESCRIPTION:Een reeks van zes pianoconcerten in de Dorpskerk van Aerdt door een aantal zeer getalenteerde studenten\, die deelnemen aan masterclasses in Kleef (Duitsland). Behalve in Aerdt geven deze pianisten op diverse plaatsen in de regio pianoconcerten. Alle concerten beginnen om 19.30 uur. Entree is gratis\, een vrije gift wordt gewaardeerd.\nMeer informatie: musiksommer-cleve.eu
URL:https://dorpskerkaerdt.nl/agenda/internationale-euregio-rhein-waal-studentenmusikfestival/
CATEGORIES:eendaags
ATTACH;FMTTYPE=image/jpeg:https://dorpskerkaerdt.nl/wp-content/uploads/2024/06/piano.jpeg
END:VEVENT
BEGIN:VEVENT
DTSTART;TZID=UTC:20260906T140000
DTEND;TZID=UTC:20260927T170000
DTSTAMP:20260421T193323
CREATED:20251202T134409Z
LAST-MODIFIED:20260219T110341Z
UID:1106-1788703200-1790528400@dorpskerkaerdt.nl
SUMMARY:Expositie Ans Broeders en Hans Janssen
DESCRIPTION:Kunstkring Het Gelders Eiland exposeert elke zondagmiddag in de Dorpskerk van Aerdt: Ans Broeders toont de vrouw in al haar facetten en Hans Janssen sculpturale glaskunst.\nGeopend op 6\, 13\, 20 en 27 september\, van 14.00 tot 17.00 uur.\nDe toegang is gratis. \nAns Broeders is onconventioneel\, passioneel in leven en werk en op een prettige manier direct. Ze neemt de tijd voor dingen die er toe doen en bezoekt graag mooie plaatsen. Ze schildert alleen de vrouw in al haar facetten en zoekt in het harde zwart-wit-gebruik naar het zachte\, ronde\, vleselijke van de vrouw. Meer informatie: ansbroeders.nl \n \nHans Janssen heeft de opleiding plastische vormgeving aan de Academie voor Beeldende Vorming in Amersfoort gevolgd. Hij combineert zijn kennis over aardewerk en glazuren met creaties van glas en keramiek. Hij experimenteert veel met glas-in-lood en met het aan elkaar smelten van glas. Janssen voegt steeds meer technieken toe aan zijn werk en ontwikkelt zich als beeldend kunstenaar die zijn ambachten combineert tot een eigen stijl.\nDe beelden van Janssen komen tot stand met een combinatie van technieken\, waaronder fusing en slumping\, waarbij glas in of over een mal van klei of staal wordt samengesmolten. Een ander veel gebruikt materiaal is steengoed (gietsteen). De werken van Hans Janssen zijn figuratief\, vaak met een combinatie van menselijke en dierlijke anatomie\, en fungeren als een spreekbuis voor de maker. Meer informatie: lysippe.nl
URL:https://dorpskerkaerdt.nl/agenda/expositie-ans-broeders-en-hans-janssen/
CATEGORIES:eendaags
ATTACH;FMTTYPE=image/jpeg:https://dorpskerkaerdt.nl/wp-content/uploads/2025/12/Ans-Broeders-1-scaled.jpg
END:VEVENT
BEGIN:VEVENT
DTSTART;TZID=UTC:20260920T160000
DTEND;TZID=UTC:20260920T170000
DTSTAMP:20260421T193323
CREATED:20260223T143537Z
LAST-MODIFIED:20260223T154317Z
UID:1698-1789920000-1789923600@dorpskerkaerdt.nl
SUMMARY:Concert Bergh's Vocaal
DESCRIPTION:Najaarsconcert in de Dorpskerk van Aerdt\, georganiseerd door Kunstkring Het Gelders Eiland. \nKamerkoor ‘Bergh’s Vocaal’ brengt een uiterst gevarieerd programma rondom diverse Engelse volksliederen in allerlei zettingen\, met als hoogtepunt de wereldpremière van het aan Bergh’s Vocaal opgedragen lied ‘The Oak and the Ash’ van de Nederlandse componist Albert Wissink.\nHet Bergh’s Vocaal is in 1985 begonnen als het ‘Dubbelkwartet’. Na een optreden in 1990 op de Liemers Korendag gaf de jury als advies om het ledental uit te breiden. De naam werd veranderd in Bergh’s Vocaal: de leden komen voornamelijk uit de oude gemeente Bergh.\nIn 1999 nam Ben Simmes de leiding van het koor op zich. Het accent kwam vooral te liggen op meerstemmige koorwerken. Inmiddels bestaat het koor uit twintig leden uit de gemeente Montferland en omstreken. Meer informatie: berghsvocaal.nl \nDeze zondagmiddag is ook de expositie van Ans Broeders en Hans Janssen te bekijken\, de kerk is vanaf 14 uur geopend.\nDe toegang is gratis. Een vrije gift wordt gewaardeerd.
URL:https://dorpskerkaerdt.nl/agenda/concert-berghs-vocaal-2/
CATEGORIES:eendaags
ATTACH;FMTTYPE=image/jpeg:https://dorpskerkaerdt.nl/wp-content/uploads/2026/02/Berghs-Vocaal-2.jpg
END:VEVENT
BEGIN:VEVENT
DTSTART;TZID=UTC:20261018T110000
DTEND;TZID=UTC:20261018T160000
DTSTAMP:20260421T193323
CREATED:20260122T141654Z
LAST-MODIFIED:20260220T112507Z
UID:1540-1792321200-1792339200@dorpskerkaerdt.nl
SUMMARY:Platenbeurs
DESCRIPTION:Op zondag 18 oktober 2026 wordt er voor de derde keer een gezellige platenbeurs georganiseerd in de Dorpskerk van Aerdt. Van 11.00 tot 16.00 uur kun je door bakken vol platen en cd’s struinen. Voor elke muziekliefhebber is er iets te ontdekken.\nMeer informatie en huur van tafels via info@dorpskerkaerdt.nl.\nVrije toegang. \n 
URL:https://dorpskerkaerdt.nl/agenda/platenbeurs-3/
CATEGORIES:eendaags
ATTACH;FMTTYPE=image/jpeg:https://dorpskerkaerdt.nl/wp-content/uploads/2025/06/platenbeurs-kerk.jpg
END:VEVENT
BEGIN:VEVENT
DTSTART;TZID=UTC:20261108T140000
DTEND;TZID=UTC:20261129T170000
DTSTAMP:20260421T193323
CREATED:20251202T135938Z
LAST-MODIFIED:20260219T110543Z
UID:1110-1794146400-1795971600@dorpskerkaerdt.nl
SUMMARY:Expositie Ada Hartman en Maia Siradze
DESCRIPTION:Kunstkring Het Gelders Eiland exposeert elke zondagmiddag in de Dorpskerk van Aerdt: Ada Hartman toont torso’s in steen en Maia Siradze swingend schilderwerk.\nGeopend op 8\, 15\, 22 en 29 november\, van 14.00 tot 17.00 uur.\nDe toegang is gratis. \n \nSinds 2006 is beeldhouwen in steen een passie voor Ada Hartman. Bij bij Beeldhouwatelier Baak heeft zij het beeldhouwen geleerd en eigen gemaakt. Daarnaast heeft ze ervaring opgedaan in Italië\, Frankrijk\, Spanje en Griekenland. Haar beelden herken je aan de strakke vorm en een zekere vrouwelijke benadering\, waaruit harmonie en betrokkenheid spreekt. De ene keer geeft een onbewerkte steen haar de inspiratie en de andere keer gaat zij op zoek naar geschikte steen voor het idee. Meer informatie: adahartman.nl \n  \nMaia Siradze (1971\, Georgië) woont en werkt al twintig jaar in Nederland. Al sinds haar jeugd is ze gepassioneerd door tekenen. In de 9e klas koos ze ervoor om haar studie voort te zetten aan een kunsttechnische school\, gespecialiseerd in wandtapijten (gobelin). Gedurende deze periode creëerde ze veel opmerkelijke werken en studeerde in 1990 af met een honoursdiploma. Ze vervolgde haar artistieke opleiding aan de Kunstacademie van Tbilisi.\nHaar werken kenmerken zich door hun expressiviteit en levendige kleurschakeringen. Voor Maia is tekenen een vorm van therapie. De genezende kracht van kunst werd vooral belangrijk toen ze haar dierbare moeder verloor en troost vond in haar creatieve proces. Haar schilderijen bevinden zich in privécollecties over de hele wereld. Maia heeft deelgenomen aan verschillende groeps- en solotentoonstellingen. Meer informatie: maiasiradze.nl
URL:https://dorpskerkaerdt.nl/agenda/expositie-ada-hartman-en-maia-siradze/
CATEGORIES:eendaags
ATTACH;FMTTYPE=image/jpeg:https://dorpskerkaerdt.nl/wp-content/uploads/2025/12/Maia-Siradze-Still-life-with-violin.jpg
END:VEVENT
BEGIN:VEVENT
DTSTART;TZID=UTC:20261205T130000
DTEND;TZID=UTC:20261220T160000
DTSTAMP:20260421T193323
CREATED:20260218T150628Z
LAST-MODIFIED:20260218T161228Z
UID:1655-1796475600-1797782400@dorpskerkaerdt.nl
SUMMARY:Foto-expositie 'Kleine dingen in stilte'
DESCRIPTION:Acht fotografen uit de regio exposeren drie weekenden in december in de Dorpskerk in Aerdt. Zij hebben zich verenigd onder de naam f8\, die verwijst naar het diafragma van een fotocamera. De leden ondernemen sinds een aantal jaren gezamenlijke fotografische activiteiten en reflecteren op elkaars werk. De tentoonstelling in Aerdt is de eerste groepstentoonstelling van f8. De leden exposeerden wel regelmatig in andere verbanden. \nDe groep bestaat uit Geert Leenders\, Mike van Lierop\, Ton Nijhuis\, Ivo Scholten\, Gemma Toussaint\, Annelies van der Vliet\, Herman Vreman en Ton van Vroonhoven. Ze hebben elkaar voor deze expositie gevonden in het thema ‘Kleine dingen in stilte’. Dit is ook de titel van een boek van de Japanse fotograaf Yamamoto Masao\, die eenvoudige onderwerpen vastlegt die vaak over het hoofd worden gezien. De fotografen kiezen elk een eigen uitwerking van het thema\, waar ze een jaar lang aan werken.  \nHet resultaat is op 5 & 6\, 12 & 13 en 19 & 20 december te zien in de Dorpskerk\, steeds van 13.00 tot 16.00 uur.\nVrij entree. \nBijgevoegde foto: Herman Vreman
URL:https://dorpskerkaerdt.nl/agenda/foto-expositie-kleine-dingen-in-stilte/
CATEGORIES:eendaags
ATTACH;FMTTYPE=image/jpeg:https://dorpskerkaerdt.nl/wp-content/uploads/2026/02/Kleine-dingen-1-foto-Herman-Vreman.jpeg
END:VEVENT
END:VCALENDAR